BEGIN:VCALENDAR
VERSION:2.0
PRODID:-//Lincoln and Continental Owner&#039;s Club - Western Region - ECPv6.15.17//NONSGML v1.0//EN
CALSCALE:GREGORIAN
METHOD:PUBLISH
X-ORIGINAL-URL:https://lcocwestern.org
X-WR-CALDESC:Events for Lincoln and Continental Owner&#039;s Club - Western Region
REFRESH-INTERVAL;VALUE=DURATION:PT1H
X-Robots-Tag:noindex
X-PUBLISHED-TTL:PT1H
BEGIN:VTIMEZONE
TZID:America/Los_Angeles
BEGIN:DAYLIGHT
TZOFFSETFROM:-0800
TZOFFSETTO:-0700
TZNAME:PDT
DTSTART:20240310T100000
END:DAYLIGHT
BEGIN:STANDARD
TZOFFSETFROM:-0700
TZOFFSETTO:-0800
TZNAME:PST
DTSTART:20241103T090000
END:STANDARD
BEGIN:DAYLIGHT
TZOFFSETFROM:-0800
TZOFFSETTO:-0700
TZNAME:PDT
DTSTART:20250309T100000
END:DAYLIGHT
BEGIN:STANDARD
TZOFFSETFROM:-0700
TZOFFSETTO:-0800
TZNAME:PST
DTSTART:20251102T090000
END:STANDARD
BEGIN:DAYLIGHT
TZOFFSETFROM:-0800
TZOFFSETTO:-0700
TZNAME:PDT
DTSTART:20260308T100000
END:DAYLIGHT
BEGIN:STANDARD
TZOFFSETFROM:-0700
TZOFFSETTO:-0800
TZNAME:PST
DTSTART:20261101T090000
END:STANDARD
END:VTIMEZONE
BEGIN:VEVENT
DTSTART;VALUE=DATE:20250916
DTEND;VALUE=DATE:20250922
DTSTAMP:20260423T210042
CREATED:20250815T010916Z
LAST-MODIFIED:20250815T012428Z
UID:43824-1757980800-1758499199@lcocwestern.org
SUMMARY:LCOC Eastern National Meet to Be Held in Gettysburg\, PA\, Sept. 16-21; Historical Sites Featured
DESCRIPTION:The Philadelphia Region of the Lincoln and Continental Owner’s Club is proud to host the 2025 Eastern National Meet At the Wyndham Hotel in Historic Gettysburg PA. You history buffs will not want to miss this meet!\n\n \nA fantastic schedule of events is planned for the Eastern National Meet including tours of President Dwight Eisenhower’s home\, the Antietam National Battlefield Visitor Center (Battle of Sharpsburg) followed by a driving tour\nof the Battlefield. and a driving tour to the Rolls Royce Museum in Mechanicsburg\, PA.  Some great receptions\, lunches and dinners are also part of the event and the fabulous Lincoln Concours d’Elegance will showcase some of the best Lincolns in LCOC.\n \n Click here for information about the meet and here to register for the event.  You must register no later than Aug. 18\, 2025.\n \n\n\n\nBEFORE YOU BEGIN REGISTERING:\nBefore you begin registering\, you will need the following items: \n\nYour national Lincoln and Continental Owners Club (LCOC) Membership Number. This can be found on the mailing label of your Lincoln & Continental Comments magazine. If you are not already a member of the LCOC\, you may click here to join. If you need to renew your LCOC membership\, click here.\nYour automobile insurance policy number and insurance company name.\nIf you are having a vehicle judged\, determine its Division and Class. Click here for a list of Divisions & Classes.\nDecide which events you wish to attend before starting your registration. Click here for event details.\n\n\n\n\n\nREGISTRATION DEADLINES:\n\nRegistering a vehicle to be judged: Friday\, August 8\, 2025\nRegistering a vehicle for exhibition: Friday\, August 8\, 2025\nGeneral registration: Monday\, August 18\, 2025\n\n\n\n\n\n  \n\n\n\n\nABSOLUTELY NO REGISTRATIONS OR REFUNDS AFTER AUGUST 18. 2025 \n\n\n\n\nSelect a registration option:\nWe cannot accept registrations over the phone. New registrations must be done on-line\, fax\, or by mail.\nOur fax number is 763-420-7849
URL:https://lcocwestern.org/event/lcoc-eastern-national-meet-to-be-held-in-gettysburg-pa-sept-16-21-historical-sites-featured/
CATEGORIES:National Events
ATTACH;FMTTYPE=image/jpeg:https://lcocwestern.org/wp-content/uploads/2025/07/Gettysburg-battlefield.jpg
END:VEVENT
END:VCALENDAR